BEGIN:VCALENDAR
VERSION:2.0
PRODID:-//La Terrine - ECPv4.6.25//NONSGML v1.0//EN
CALSCALE:GREGORIAN
METHOD:PUBLISH
X-WR-CALNAME:La Terrine
X-ORIGINAL-URL:https://www.la-terrine.fr
X-WR-CALDESC:Évènements pour La Terrine
BEGIN:VEVENT
DTSTART;VALUE=DATE:20260406
DTEND;VALUE=DATE:20260407
DTSTAMP:20260421T084223
CREATED:20260307T093107Z
LAST-MODIFIED:20260307T093107Z
UID:16731-1775433600-1775519999@www.la-terrine.fr
SUMMARY:Cochon à la broche 🐷 & Chasse aux oeufs de Pâques 🐰
DESCRIPTION:Cochon à la broche & Chasse aux oeufs de Pâques 🐰 \n \n🐷 Ferme auberge La Terrine à Mercurol (Drôme)\nLa ferme auberge La Terrine\, située à Mercurol dans la Drôme\, vous accueille dans un lieu atypique et champêtre depuis 1979.Ici\, tout est pensé pour le partage\, la convivialité et la gourmandise. \nTout d’abord\, vous découvrez une grande bâtisse au cœur de la ferme. Elle est entourée de parcs à cochons\, d’un petit canal et de deux étangs. Le cadre est naturel\, chaleureux et dépaysant. \n🍽️ Un repas à volonté\, fait maison\nEnsuite\, place au repas.Le menu est tout compris et à volonté\, de l’apéritif maison jusqu’au café.Vous dégustez des plats cuisinés sur place\, accompagnés de vins (blanc\, rouge et rosé) et de la traditionnelle Clairette de Die. \nAu cœur du repas\, un moment phare vous attend :👉 la sortie du four à bois et la découpe du cochon à la broche\, préparé devant vous. \n🎶 Une ambiance festive et conviviale\nAprès le repas\, la journée continue.En effet\, une animation musicale accompagne l’après-midi dansant.Au programme : musette\, guinguette\, années 80\, rock et variétés françaises. Chacun y trouve son plaisir. \n🌿 Profitez aussi des extérieurs\nTout au long de la journée\, vous pouvez également : \n\n\nvisiter la ferme et les parcs à cochons\, \n\n\nvous balader en plein air\, \n\n\njouer à la pétanque sous les arbres. \n\n\nAvant de repartir\, il est possible d’acheter nos produits de la ferme à emporter :\npognes\, pains et saucissons\, tous faits maison. \nℹ️ Attention : paiement par chèque ou espèces uniquement. \n\n\nComme l’année dernière\, nous organisons pour le Lundi de Pâques  ( Le 1er avril 2026)\, une chasse aux œufs de Pâques  pour les enfants.\n\n\n \n\n\nC’est à La Terrine et après le repas\, nous espérons avoir un beau temps ! \n\n\n \n\n\nAttention cette chasse aux œufs est réservée uniquement aux clients de l’auberge ! \n\n\n \n\n\nDonc n’attendez plus pour réserver\, nous avons encore de la place !\n\n\n \n\n\n*Conditions de participation : Avoir un enfant ou + à sa table (max 12 ans) \, être muni du coupon de participation (donné à l’arrivée)\, être client de l’auberge le jour même.\n\n\n \n\n\nHâte de vous recevoir ! \n\n📞 Contact et réservations\nPour toute information ou réservation\, contactez-nous : \n\n\n📧 bienvenue@la-terrine.fr \n\n\n📞 04 75 07 44 20 \n\n\nLa Terrine\, c’est une journée complète à la ferme\, un repas généreux et une ambiance unique en Drôme. \n
URL:https://www.la-terrine.fr/evenement/cochon-a-la-broche-%f0%9f%90%b7-chasse-aux-oeufs-de-paques-%f0%9f%90%b0/
LOCATION:La Terrine\, 695 route de chantemerle\, Mercurol\, 26600\, France
END:VEVENT
END:VCALENDAR